BEGIN:VCALENDAR
VERSION:2.0
CALSCALE:GREGORIAN
PRODID:adamgibbons/ics
METHOD:PUBLISH
X-PUBLISHED-TTL:PT1H
BEGIN:VEVENT
UID:19314@offbeat.amsterdam
SUMMARY:Hoe bouw je een vrijplaats?
DTSTAMP:20260420T050900Z
DTSTART:20260420T173000Z
URL:https://offbeat.amsterdam/event/hoe-bouw-je-een-vrijplaats
LOCATION:Pakhuis de Zwijger - Piet Heinkade 179\, 1019 HC Amsterdam
STATUS:CONFIRMED
CATEGORIES:eastern docklands,amsterdam-centrum,creatieve industrie
END:VEVENT
BEGIN:VEVENT
UID:19997@offbeat.amsterdam
SUMMARY:Het (niet) vervolgen van huiselijk geweld
DTSTAMP:20260420T050900Z
DTSTART:20260420T180000Z
URL:https://offbeat.amsterdam/event/het-niet-vervolgen-van-huiselijk-geweld
LOCATION:Pakhuis de Zwijger - Piet Heinkade 179\, 1019 HC Amsterdam
STATUS:CONFIRMED
CATEGORIES:sociaal,amsterdam-centrum,eastern docklands
END:VEVENT
BEGIN:VEVENT
UID:19151@offbeat.amsterdam
SUMMARY:Climate Justice and Right to Housing
DTSTAMP:20260420T050900Z
DTSTART:20260421T173000Z
URL:https://offbeat.amsterdam/event/climate-justice-and-right-to-housing
LOCATION:Pakhuis de Zwijger - Piet Heinkade 179\, 1019 HC Amsterdam
STATUS:CONFIRMED
CATEGORIES:amsterdam-centrum,books,community,eastern docklands,ecology,live
	,physical space
END:VEVENT
BEGIN:VEVENT
UID:20390@offbeat.amsterdam
SUMMARY:In gesprek met Joris Luyendijk
DTSTAMP:20260420T050900Z
DTSTART:20260421T180000Z
URL:https://offbeat.amsterdam/event/in-gesprek-met-joris-luyendijk
LOCATION:Pakhuis de Zwijger - Piet Heinkade 179\, 1019 HC Amsterdam
STATUS:CONFIRMED
CATEGORIES:music,democratie,amsterdam-centrum,eastern docklands,fundraiser
END:VEVENT
BEGIN:VEVENT
UID:19847@offbeat.amsterdam
SUMMARY:In this together: Uber drivers unite!
DTSTAMP:20260420T050900Z
DTSTART:20260422T180000Z
URL:https://offbeat.amsterdam/event/in-this-together-uber-drivers-unite
LOCATION:Pakhuis de Zwijger - Piet Heinkade 179\, 1019 HC Amsterdam
STATUS:CONFIRMED
CATEGORIES:eastern docklands,economie,film,amsterdam-centrum
END:VEVENT
BEGIN:VEVENT
UID:19018@offbeat.amsterdam
SUMMARY:Harar\, the forgotten Islamic city
DTSTAMP:20260420T050900Z
DTSTART:20260423T170000Z
URL:https://offbeat.amsterdam/event/harar-the-forgotten-islamic-city
LOCATION:Pakhuis de Zwijger - Piet Heinkade 179\, 1019 HC Amsterdam
STATUS:CONFIRMED
CATEGORIES:amsterdam-centrum,film,social,eastern docklands,documentary,comm
	unity
END:VEVENT
BEGIN:VEVENT
UID:20105@offbeat.amsterdam
SUMMARY:Spelen en Leren in de Stad
DTSTAMP:20260420T050900Z
DTSTART:20260423T173000Z
URL:https://offbeat.amsterdam/event/spelen-en-leren-in-de-stad
LOCATION:Pakhuis de Zwijger - Piet Heinkade 179\, 1019 HC Amsterdam
STATUS:CONFIRMED
CATEGORIES:amsterdam-centrum,ruimte,eastern docklands
END:VEVENT
BEGIN:VEVENT
UID:19320@offbeat.amsterdam
SUMMARY:Vegan Veehouder x Heel Holland Kakt
DTSTAMP:20260420T050900Z
DTSTART:20260423T180000Z
URL:https://offbeat.amsterdam/event/vegan-veehouder-x-heel-holland-kakt
LOCATION:Pakhuis de Zwijger - Piet Heinkade 179\, 1019 HC Amsterdam
STATUS:CONFIRMED
CATEGORIES:eastern docklands,duurzaamheid,amsterdam-centrum,vegan,film
END:VEVENT
BEGIN:VEVENT
UID:20707@offbeat.amsterdam
SUMMARY:Ye Bo Game – Music & Dance Game Night Special (Michael Jackson trib
	ute)
DTSTAMP:20260420T050900Z
DTSTART:20260424T170000Z
URL:https://offbeat.amsterdam/event/ye-bo-game-music-and-dance-game-night-s
	pecial-michael-jackson-tribute
LOCATION:Pakhuis de Zwijger - Piet Heinkade 179\, 1019 HC Amsterdam
STATUS:CONFIRMED
CATEGORIES:dance,party,games,music,eastern docklands,dj,amsterdam-centrum,c
	reative industries
END:VEVENT
BEGIN:VEVENT
UID:18183@offbeat.amsterdam
SUMMARY:Queer Poetry Night
DTSTAMP:20260420T050900Z
DTSTART:20260428T170000Z
URL:https://offbeat.amsterdam/event/queer-poetry-night-7
LOCATION:Pakhuis de Zwijger - Piet Heinkade 179\, 1019 HC Amsterdam
STATUS:CONFIRMED
CATEGORIES:amsterdam-centrum,community,eastern docklands,improv,music,open 
	mic,performance,workshop,storytelling,stories,social,refugees,queer,poetry
END:VEVENT
BEGIN:VEVENT
UID:20702@offbeat.amsterdam
SUMMARY:HOPE! We Are In Time: The Secret Ingredient
DTSTAMP:20260420T050900Z
DTSTART:20260428T180000Z
URL:https://offbeat.amsterdam/event/hope-we-are-in-time-the-secret-ingredie
	nt
LOCATION:Pakhuis de Zwijger - Piet Heinkade 179\, 1019 HC Amsterdam
STATUS:CONFIRMED
CATEGORIES:film,eastern docklands,documentary,amsterdam-centrum,talk,sustai
	nability,stories,music
END:VEVENT
BEGIN:VEVENT
UID:20332@offbeat.amsterdam
SUMMARY:Architectuur waar meer dan de mens kan woekeren
DTSTAMP:20260420T050900Z
DTSTART:20260429T173000Z
URL:https://offbeat.amsterdam/event/architectuur-waar-meer-dan-de-mens-kan-
	woekeren
LOCATION:Pakhuis de Zwijger - Piet Heinkade 179\, 1019 HC Amsterdam
STATUS:CONFIRMED
CATEGORIES:ruimte,eastern docklands,amsterdam-centrum
END:VEVENT
BEGIN:VEVENT
UID:20597@offbeat.amsterdam
SUMMARY:How to Evolve and How Not To
DTSTAMP:20260420T050900Z
DTSTART:20260429T180000Z
URL:https://offbeat.amsterdam/event/how-to-evolve-and-how-not-to
LOCATION:Pakhuis de Zwijger - Piet Heinkade 179\, 1019 HC Amsterdam
STATUS:CONFIRMED
CATEGORIES:games,social,talk,books,community,eastern docklands,amsterdam-ce
	ntrum
END:VEVENT
BEGIN:VEVENT
UID:20134@offbeat.amsterdam
SUMMARY:De kracht van de eenvoud
DTSTAMP:20260420T050900Z
DTSTART:20260430T173000Z
URL:https://offbeat.amsterdam/event/de-kracht-van-de-eenvoud
LOCATION:Pakhuis de Zwijger - Piet Heinkade 179\, 1019 HC Amsterdam
STATUS:CONFIRMED
CATEGORIES:eastern docklands,amsterdam-centrum,ruimte,workshop
END:VEVENT
BEGIN:VEVENT
UID:20388@offbeat.amsterdam
SUMMARY:Artistry\, Mental Health & Psychedelics
DTSTAMP:20260420T050900Z
DTSTART:20260430T180000Z
URL:https://offbeat.amsterdam/event/artistry-mental-health-and-psychedelics
LOCATION:Pakhuis de Zwijger - Piet Heinkade 179\, 1019 HC Amsterdam
STATUS:CONFIRMED
CATEGORIES:mental health,amsterdam-centrum,creatieve industrie,eastern dock
	lands,experimental,film,music
END:VEVENT
BEGIN:VEVENT
UID:20389@offbeat.amsterdam
SUMMARY:I\, Awhlkuhn Speak: To Unorthodox Fashion Folk
DTSTAMP:20260420T050900Z
DTSTART:20260501T180000Z
URL:https://offbeat.amsterdam/event/i-awhlkuhn-speak-to-unorthodox-fashion-
	folk
LOCATION:Pakhuis de Zwijger - Piet Heinkade 179\, 1019 HC Amsterdam
STATUS:CONFIRMED
CATEGORIES:eastern docklands,music,amsterdam-centrum,community,creative ind
	ustries,dj
END:VEVENT
BEGIN:VEVENT
UID:20598@offbeat.amsterdam
SUMMARY:Sociale veiligheid op school
DTSTAMP:20260420T050900Z
DTSTART:20260506T144500Z
URL:https://offbeat.amsterdam/event/sociale-veiligheid-op-school
LOCATION:Pakhuis de Zwijger - Piet Heinkade 179\, 1019 HC Amsterdam
STATUS:CONFIRMED
CATEGORIES:amsterdam-centrum,eastern docklands,film,sociaal
END:VEVENT
BEGIN:VEVENT
UID:19754@offbeat.amsterdam
SUMMARY:Lenteland Meet-Up: Anders Investeren
DTSTAMP:20260420T050900Z
DTSTART:20260506T173000Z
URL:https://offbeat.amsterdam/event/lenteland-meet-up-anders-investeren
LOCATION:Pakhuis de Zwijger - Piet Heinkade 179\, 1019 HC Amsterdam
STATUS:CONFIRMED
CATEGORIES:amsterdam-centrum,eastern docklands,duurzaamheid
END:VEVENT
BEGIN:VEVENT
UID:19998@offbeat.amsterdam
SUMMARY:‘Dus je valt op vrouwen?’
DTSTAMP:20260420T050900Z
DTSTART:20260506T180000Z
URL:https://offbeat.amsterdam/event/dus-je-valt-op-vrouwen
LOCATION:Pakhuis de Zwijger - Piet Heinkade 179\, 1019 HC Amsterdam
STATUS:CONFIRMED
CATEGORIES:film,sociaal,amsterdam-centrum,eastern docklands
END:VEVENT
BEGIN:VEVENT
UID:20703@offbeat.amsterdam
SUMMARY:Hitte in de stad
DTSTAMP:20260420T050900Z
DTSTART:20260507T180000Z
URL:https://offbeat.amsterdam/event/hitte-in-de-stad
LOCATION:Pakhuis de Zwijger - Piet Heinkade 179\, 1019 HC Amsterdam
STATUS:CONFIRMED
CATEGORIES:amsterdam-centrum,eastern docklands,duurzaamheid
END:VEVENT
BEGIN:VEVENT
UID:19316@offbeat.amsterdam
SUMMARY:Je Moeder
DTSTAMP:20260420T050900Z
DTSTART:20260507T180000Z
URL:https://offbeat.amsterdam/event/moeder
LOCATION:Pakhuis de Zwijger - Piet Heinkade 179\, 1019 HC Amsterdam
STATUS:CONFIRMED
CATEGORIES:amsterdam-centrum,creatieve industrie,eastern docklands,film
END:VEVENT
BEGIN:VEVENT
UID:20279@offbeat.amsterdam
SUMMARY:Europe Day
DTSTAMP:20260420T050900Z
DTSTART:20260508T100000Z
URL:https://offbeat.amsterdam/event/europe-day
LOCATION:Pakhuis de Zwijger - Piet Heinkade 179\, 1019 HC Amsterdam
STATUS:CONFIRMED
CATEGORIES:amsterdam-centrum,community,democracy,eastern docklands,live,ope
	ning
END:VEVENT
BEGIN:VEVENT
UID:20447@offbeat.amsterdam
SUMMARY:Het Pakhuis Open
DTSTAMP:20260420T050900Z
DTSTART:20260508T160000Z
URL:https://offbeat.amsterdam/event/het-pakhuis-open-2
LOCATION:Pakhuis de Zwijger - Piet Heinkade 179\, 1019 HC Amsterdam
STATUS:CONFIRMED
CATEGORIES:creatieve industrie,amsterdam-centrum,eastern docklands
END:VEVENT
BEGIN:VEVENT
UID:20700@offbeat.amsterdam
SUMMARY:De strijd om de digitale euro
DTSTAMP:20260420T050900Z
DTSTART:20260508T180000Z
URL:https://offbeat.amsterdam/event/de-strijd-om-de-digitale-euro
LOCATION:Pakhuis de Zwijger - Piet Heinkade 179\, 1019 HC Amsterdam
STATUS:CONFIRMED
CATEGORIES:economie,amsterdam-centrum,eastern docklands
END:VEVENT
BEGIN:VEVENT
UID:20704@offbeat.amsterdam
SUMMARY:Rijker dan ooit\, machtiger dan ooit
DTSTAMP:20260420T050900Z
DTSTART:20260511T180000Z
URL:https://offbeat.amsterdam/event/rijker-dan-ooit-machtiger-dan-ooit
LOCATION:Pakhuis de Zwijger - Piet Heinkade 179\, 1019 HC Amsterdam
STATUS:CONFIRMED
CATEGORIES:amsterdam-centrum,eastern docklands,economie
END:VEVENT
BEGIN:VEVENT
UID:20648@offbeat.amsterdam
SUMMARY:Samenwerken op kantoor
DTSTAMP:20260420T050900Z
DTSTART:20260512T180000Z
URL:https://offbeat.amsterdam/event/samenwerken-op-kantoor
LOCATION:Pakhuis de Zwijger - Piet Heinkade 179\, 1019 HC Amsterdam
STATUS:CONFIRMED
CATEGORIES:ruimte,amsterdam-centrum,eastern docklands
END:VEVENT
BEGIN:VEVENT
UID:19751@offbeat.amsterdam
SUMMARY:Bou di Watapana #7: Queer Caribbean Voices
DTSTAMP:20260420T050900Z
DTSTART:20260513T173000Z
URL:https://offbeat.amsterdam/event/bou-di-watapana-7-queer-caribbean-voice
	s
LOCATION:Pakhuis de Zwijger - Piet Heinkade 179\, 1019 HC Amsterdam
STATUS:CONFIRMED
CATEGORIES:eastern docklands,festivals,afro,performance,pride,queer,sociaal
	,mental health,theater,amsterdam-centrum,comedy,community
END:VEVENT
BEGIN:VEVENT
UID:19251@offbeat.amsterdam
SUMMARY:Iedereen klimaatmoe. En nu dan?!
DTSTAMP:20260420T050900Z
DTSTART:20260513T180000Z
URL:https://offbeat.amsterdam/event/iedereen-klimaatmoe-en-nu-dan
LOCATION:Pakhuis de Zwijger - Piet Heinkade 179\, 1019 HC Amsterdam
STATUS:CONFIRMED
CATEGORIES:eastern docklands,duurzaamheid,amsterdam-centrum
END:VEVENT
BEGIN:VEVENT
UID:20446@offbeat.amsterdam
SUMMARY:Democratie onder druk
DTSTAMP:20260420T050900Z
DTSTART:20260518T180000Z
URL:https://offbeat.amsterdam/event/democratie-onder-druk
LOCATION:Pakhuis de Zwijger - Piet Heinkade 179\, 1019 HC Amsterdam
STATUS:CONFIRMED
CATEGORIES:democratie,amsterdam-centrum,eastern docklands
END:VEVENT
BEGIN:VEVENT
UID:20762@offbeat.amsterdam
SUMMARY:Onvertegenwoordigde wijken
DTSTAMP:20260420T050900Z
DTSTART:20260519T180000Z
URL:https://offbeat.amsterdam/event/onvertegenwoordigde-wijken
LOCATION:Pakhuis de Zwijger - Piet Heinkade 179\, 1019 HC Amsterdam
STATUS:CONFIRMED
CATEGORIES:eastern docklands,amsterdam-centrum,community,democratie
END:VEVENT
BEGIN:VEVENT
UID:20761@offbeat.amsterdam
SUMMARY:Europa Draait Door – LIVE met Paul Krugman
DTSTAMP:20260420T050900Z
DTSTART:20260520T180000Z
URL:https://offbeat.amsterdam/event/europa-draait-door-live-met-paul-krugma
	n
LOCATION:Pakhuis de Zwijger - Piet Heinkade 179\, 1019 HC Amsterdam
STATUS:CONFIRMED
CATEGORIES:eastern docklands,amsterdam-centrum,live,economie
END:VEVENT
BEGIN:VEVENT
UID:19307@offbeat.amsterdam
SUMMARY:Allen tegen Allen
DTSTAMP:20260420T050900Z
DTSTART:20260521T180000Z
URL:https://offbeat.amsterdam/event/allen-tegen-allen
LOCATION:Pakhuis de Zwijger - Piet Heinkade 179\, 1019 HC Amsterdam
STATUS:CONFIRMED
CATEGORIES:games,amsterdam-centrum,democratie,eastern docklands,film
END:VEVENT
BEGIN:VEVENT
UID:20760@offbeat.amsterdam
SUMMARY:De stad als bouwterrein
DTSTAMP:20260420T050900Z
DTSTART:20260521T180000Z
URL:https://offbeat.amsterdam/event/de-stad-als-bouwterrein
LOCATION:Pakhuis de Zwijger - Piet Heinkade 179\, 1019 HC Amsterdam
STATUS:CONFIRMED
CATEGORIES:amsterdam-centrum,eastern docklands,ruimte
END:VEVENT
BEGIN:VEVENT
UID:19308@offbeat.amsterdam
SUMMARY:RAAF
DTSTAMP:20260420T050900Z
DTSTART:20260522T170000Z
URL:https://offbeat.amsterdam/event/animal-advocacy-forum
LOCATION:Pakhuis de Zwijger - Piet Heinkade 179\, 1019 HC Amsterdam
STATUS:CONFIRMED
CATEGORIES:plants,social,soul,stories,talk,techno,vegan,books,amsterdam-cen
	trum,activism,community,dinner,eastern docklands,food,jazz,music,party
END:VEVENT
BEGIN:VEVENT
UID:20705@offbeat.amsterdam
SUMMARY:Strijd tegen Racisme: maar wat is mijn strategie?
DTSTAMP:20260420T050900Z
DTSTART:20260522T170000Z
URL:https://offbeat.amsterdam/event/strijd-tegen-racisme-maar-wat-is-mijn-s
	trategie
LOCATION:Pakhuis de Zwijger - Piet Heinkade 179\, 1019 HC Amsterdam
STATUS:CONFIRMED
CATEGORIES:eastern docklands,sociaal,workshop,amsterdam-centrum
END:VEVENT
BEGIN:VEVENT
UID:18184@offbeat.amsterdam
SUMMARY:Queer Poetry Night
DTSTAMP:20260420T050900Z
DTSTART:20260526T170000Z
URL:https://offbeat.amsterdam/event/queer-poetry-night-8
LOCATION:Pakhuis de Zwijger - Piet Heinkade 179\, 1019 HC Amsterdam
STATUS:CONFIRMED
CATEGORIES:refugees,workshop,storytelling,stories,social,queer,poetry,perfo
	rmance,open mic,music,improv,eastern docklands,community,amsterdam-centrum
END:VEVENT
BEGIN:VEVENT
UID:19811@offbeat.amsterdam
SUMMARY:AAN TAFEL! over de staat van de natuur? Natuurlijk!
DTSTAMP:20260420T050900Z
DTSTART:20260526T173000Z
URL:https://offbeat.amsterdam/event/aan-tafel-over-de-staat-van-de-natuur-n
	atuurlijk
LOCATION:Pakhuis de Zwijger - Piet Heinkade 179\, 1019 HC Amsterdam
STATUS:CONFIRMED
CATEGORIES:duurzaamheid,amsterdam-centrum,eastern docklands
END:VEVENT
BEGIN:VEVENT
UID:19812@offbeat.amsterdam
SUMMARY:Who writes Europe’s rules?
DTSTAMP:20260420T050900Z
DTSTART:20260526T180000Z
URL:https://offbeat.amsterdam/event/who-writes-europes-rules
LOCATION:Pakhuis de Zwijger - Piet Heinkade 179\, 1019 HC Amsterdam
STATUS:CONFIRMED
CATEGORIES:democracy,amsterdam-centrum,eastern docklands
END:VEVENT
BEGIN:VEVENT
UID:20862@offbeat.amsterdam
SUMMARY:The Real Housewives of ATLANTA (Media analysis)
DTSTAMP:20260420T050900Z
DTSTART:20260528T180000Z
URL:https://offbeat.amsterdam/event/the-real-housewives-of-atlanta-media-an
	alysis
LOCATION:Pakhuis de Zwijger - Piet Heinkade 179\, 1019 HC Amsterdam
STATUS:CONFIRMED
CATEGORIES:eastern docklands,discussion,creative industries,community,amste
	rdam-centrum
END:VEVENT
BEGIN:VEVENT
UID:20701@offbeat.amsterdam
SUMMARY:Een vlucht naar voren
DTSTAMP:20260420T050900Z
DTSTART:20260601T180000Z
URL:https://offbeat.amsterdam/event/een-vlucht-naar-voren
LOCATION:Pakhuis de Zwijger - Piet Heinkade 179\, 1019 HC Amsterdam
STATUS:CONFIRMED
CATEGORIES:amsterdam-centrum,eastern docklands,democratie
END:VEVENT
BEGIN:VEVENT
UID:19309@offbeat.amsterdam
SUMMARY:Beeldbestormers
DTSTAMP:20260420T050900Z
DTSTART:20260604T180000Z
URL:https://offbeat.amsterdam/event/beeldbestormers
LOCATION:Pakhuis de Zwijger - Piet Heinkade 179\, 1019 HC Amsterdam
STATUS:CONFIRMED
CATEGORIES:gender,creatieve industrie,eastern docklands,film,amsterdam-cent
	rum
END:VEVENT
BEGIN:VEVENT
UID:20136@offbeat.amsterdam
SUMMARY:Ontwerpen aan waardenrijke woongebouwen
DTSTAMP:20260420T050900Z
DTSTART:20260609T173000Z
URL:https://offbeat.amsterdam/event/ontwerpen-aan-waardenrijke-woongebouwen
LOCATION:Pakhuis de Zwijger - Piet Heinkade 179\, 1019 HC Amsterdam
STATUS:CONFIRMED
CATEGORIES:eastern docklands,amsterdam-centrum,ruimte
END:VEVENT
BEGIN:VEVENT
UID:19317@offbeat.amsterdam
SUMMARY:Bagasi – wat we meedragen
DTSTAMP:20260420T050900Z
DTSTART:20260611T180000Z
URL:https://offbeat.amsterdam/event/movies-that-matter
LOCATION:Pakhuis de Zwijger - Piet Heinkade 179\, 1019 HC Amsterdam
STATUS:CONFIRMED
CATEGORIES:film,theater,sociaal,music,live,eastern docklands,amsterdam-cent
	rum
END:VEVENT
BEGIN:VEVENT
UID:19312@offbeat.amsterdam
SUMMARY:Shadow Game
DTSTAMP:20260420T050900Z
DTSTART:20260618T180000Z
URL:https://offbeat.amsterdam/event/cinedeli
LOCATION:Pakhuis de Zwijger - Piet Heinkade 179\, 1019 HC Amsterdam
STATUS:CONFIRMED
CATEGORIES:creatieve industrie,eastern docklands,games,amsterdam-centrum,fi
	lm
END:VEVENT
BEGIN:VEVENT
UID:18185@offbeat.amsterdam
SUMMARY:Queer Poetry Night
DTSTAMP:20260420T050900Z
DTSTART:20260623T170000Z
URL:https://offbeat.amsterdam/event/queer-poetry-night-9
LOCATION:Pakhuis de Zwijger - Piet Heinkade 179\, 1019 HC Amsterdam
STATUS:CONFIRMED
CATEGORIES:refugees,queer,poetry,open mic,music,improv,performance,social,s
	tories,workshop,storytelling,eastern docklands,community,amsterdam-centrum
END:VEVENT
BEGIN:VEVENT
UID:19318@offbeat.amsterdam
SUMMARY:Movies that Matter
DTSTAMP:20260420T050900Z
DTSTART:20260702T180000Z
URL:https://offbeat.amsterdam/event/movies-that-matter-1
LOCATION:Pakhuis de Zwijger - Piet Heinkade 179\, 1019 HC Amsterdam
STATUS:CONFIRMED
CATEGORIES:film,eastern docklands,sociaal,amsterdam-centrum
END:VEVENT
END:VCALENDAR
